BEGIN:VCALENDAR
VERSION:2.0
PRODID:-//South Dakota Parent Connection - ECPv6.15.10//NONSGML v1.0//EN
CALSCALE:GREGORIAN
METHOD:PUBLISH
X-WR-CALNAME:South Dakota Parent Connection
X-ORIGINAL-URL:https://sdparent.org
X-WR-CALDESC:Events for South Dakota Parent Connection
REFRESH-INTERVAL;VALUE=DURATION:PT1H
X-Robots-Tag:noindex
X-PUBLISHED-TTL:PT1H
BEGIN:VTIMEZONE
TZID:America/Chicago
BEGIN:DAYLIGHT
TZOFFSETFROM:-0600
TZOFFSETTO:-0500
TZNAME:CDT
DTSTART:20250309T080000
END:DAYLIGHT
BEGIN:STANDARD
TZOFFSETFROM:-0500
TZOFFSETTO:-0600
TZNAME:CST
DTSTART:20251102T070000
END:STANDARD
BEGIN:DAYLIGHT
TZOFFSETFROM:-0600
TZOFFSETTO:-0500
TZNAME:CDT
DTSTART:20260308T080000
END:DAYLIGHT
BEGIN:STANDARD
TZOFFSETFROM:-0500
TZOFFSETTO:-0600
TZNAME:CST
DTSTART:20261101T070000
END:STANDARD
BEGIN:DAYLIGHT
TZOFFSETFROM:-0600
TZOFFSETTO:-0500
TZNAME:CDT
DTSTART:20270314T080000
END:DAYLIGHT
BEGIN:STANDARD
TZOFFSETFROM:-0500
TZOFFSETTO:-0600
TZNAME:CST
DTSTART:20271107T070000
END:STANDARD
END:VTIMEZONE
BEGIN:VEVENT
DTSTART;TZID=America/Chicago:20260409T080000
DTEND;TZID=America/Chicago:20260410T163000
DTSTAMP:20260422T071200
CREATED:20260219T164927Z
LAST-MODIFIED:20260219T171629Z
UID:10001511-1775721600-1775838600@sdparent.org
SUMMARY:South Dakota Early Childhood Education Conference
DESCRIPTION:The South Dakota Early Childhood Education Conference is a special event for people who work with young children. It brings together teachers\, childcare providers\, school staff\, and other professionals from across South Dakota. \nThis conference is all about learning new ideas\, building skills\, and making connections. It focuses on children from birth through age eight. Sessions cover topics like early learning\, behavior support\, inclusion\, social-emotional development\, and working together with families. \nAt the conference\, you can: \n\n\nLearn from expert speakers \n\n\nAttend hands-on workshops \n\n\nDiscover new tools and resources \n\n\nMeet other early childhood professionals \n\n\nGet fresh ideas to use right away \n\n\n\nWhether you work in a preschool\, childcare center\, Head Start program\, or early elementary classroom\, this conference has something for you. \nThe South Dakota Early Childhood Education Conference is a great way to grow your knowledge and feel inspired in the important work you do for young children and their families. \nTo learn more\, view the schedule\, or register\, visit the conference website.
URL:https://sdparent.org/event/south-dakota-early-childhood-education-conference/
LOCATION:Double Tree Downtown Convention Center\, 505 N 5th St\, Rapid City\, 57701\, United States
CATEGORIES:Educators
ORGANIZER;CN="South Dakota Association for the Education of Young Children (SDAEYC)":MAILTO:operations@sdaeyc.org
END:VEVENT
END:VCALENDAR